BEGIN:VCALENDAR
VERSION:2.0
PRODID:-//Indiana CTSI - ECPv6.15.18//NONSGML v1.0//EN
CALSCALE:GREGORIAN
METHOD:PUBLISH
X-ORIGINAL-URL:https://indianactsi.org
X-WR-CALDESC:Events for Indiana CTSI
REFRESH-INTERVAL;VALUE=DURATION:PT1H
X-Robots-Tag:noindex
X-PUBLISHED-TTL:PT1H
BEGIN:VTIMEZONE
TZID:America/Indiana/Indianapolis
BEGIN:DAYLIGHT
TZOFFSETFROM:-0500
TZOFFSETTO:-0400
TZNAME:EDT
DTSTART:20240310T070000
END:DAYLIGHT
BEGIN:STANDARD
TZOFFSETFROM:-0400
TZOFFSETTO:-0500
TZNAME:EST
DTSTART:20241103T060000
END:STANDARD
BEGIN:DAYLIGHT
TZOFFSETFROM:-0500
TZOFFSETTO:-0400
TZNAME:EDT
DTSTART:20250309T070000
END:DAYLIGHT
BEGIN:STANDARD
TZOFFSETFROM:-0400
TZOFFSETTO:-0500
TZNAME:EST
DTSTART:20251102T060000
END:STANDARD
BEGIN:DAYLIGHT
TZOFFSETFROM:-0500
TZOFFSETTO:-0400
TZNAME:EDT
DTSTART:20260308T070000
END:DAYLIGHT
BEGIN:STANDARD
TZOFFSETFROM:-0400
TZOFFSETTO:-0500
TZNAME:EST
DTSTART:20261101T060000
END:STANDARD
END:VTIMEZONE
BEGIN:VEVENT
DTSTART;TZID=America/Indiana/Indianapolis:20250423T083000
DTEND;TZID=America/Indiana/Indianapolis:20250423T160000
DTSTAMP:20260422T005212
CREATED:20250331T203359Z
LAST-MODIFIED:20250331T203527Z
UID:10000013-1745397000-1745424000@indianactsi.org
SUMMARY:2025 IU Bloomington Indiana CTSI Summit: AI and Health Research Summit
DESCRIPTION:Join us for dynamic discussions on AI and ethics\, public health\, and medicine. \nRegistration Now Open \nFeaturing Susan Gregurick\, PhD\, Associate Director of the Office of Data Science Strategy\, NIH. \nAgenda \n8:30 am: Breakfast \n8:50 am: Introduction \nBill Hetrick\, PhD\, Indiana CTSI Deputy Director for IU Bloomington\, and Joel A. Ybe\, PhD\, Indiana CTSI Navigator for IU Bloomington \n9:00-10:00 am: Session I – AI and Ethics \n“Ethics and Responsible Use of AI for Translational Science” \nMatthew DeCamp\, MD\, PhD\, Center for Bioethics and Humanities and Division of General Internal Medicine\, Univ. of Colorado \n“Supporting Equitable Design Processes of Robots and AI”\nAnastasia Ostrowski\, PhD\, Dept. of Computer Graphics Technology\, Purdue University \n“Social Impacts and Ethical Challenges of AI in Healthcare: A Human-Centered Design Perspective”\nElizabeth Kaziunas\, PhD\, Luddy School of Informatics\, Computing\, and Engineering\, IU Bloomington \n10:00-10:15 am: Break \n10:15-11:15 am: Session II – AI\, Public Health\, Community \n“From descriptive insights to predictive modeling: Understanding the role of the Phoenix: a Sober Active Community Mobile app on recovery outcomes among people with substance use disorders (SUD)”\nDanny Valdez\, PhD\, Applied Health Science\, IU School of Public Health – Bloomington \n“Supporting Older Adults’ Social Wellness Needs Through AI-Enabled Systems: Opportunities and Barriers” \nAqueasha Martin-Hammond\, PhD\, Luddy School of Informatics\, Computing\, and Engineering\, IU Indianapolis \nTalk Title TBD\nPatrick Shih\, PhD\, Luddy School of Informatics\, Computing\, and Engineering\, IU Bloomington \n11:15-11:30 am: Break \n11:30-12:30 pm: Session III – AI and Medicine \n“Simulated Minds: What Digital Twins Can Teach Us About Mental Health”\nSamantha Wood\, PhD\, Luddy School of Informatics\, Computing\, and Engineering\, IU Bloomington \n“Using Cognitive-Inspired Data Engineering to Improve Human and Machine Medical Image Decision-making” \nJennifer Trueblood\, PhD\, Psychological and Brian Sciences\, IU Bloomington \n“A Roadmap for Pushing Forward with Intentionality in Healthcare Artificial Intelligence”\nAndrew Gonzalez\, MD\, JD\, MPH\, IU School of Medicine \n12:30-2:00 pm: Lunch\, Lunch Activity and Posters \n2:00-2:15 pm: “Indiana CTSI support of AI and Health”\nSharon Moe\, MD\, and Sarah Wiehe\, MD\, MPH\, Co-Directors of the Indiana CTSI \n2:15-3:15 pm: Session IV – Flash Talks \n“AI-Controlled Digital Humans and Digital Twins”\nAlan Dennis\, PhD\, Kelly School of Business\, IU Bloomington \n“AI-Driven Drug Discovery Pipeline for Lead Optimization”\nYijie Wang\, PhD\, Luddy School of Informatics\, Computing\, and Engineering\, IU Bloomington \n“Interpretable AI models for microbiome-based host phenotype prediction”\nYuzhen Ye\, PhD\, Luddy School of Informatics\, Computing\, and Engineering\, IU Bloomington \n“Nucleus Quantification in Ki67 Images”\nXuhong Zhang\, PhD\, Luddy School of Informatics\, Computing\, and Engineering\, IU Bloomington \n“AI-Enabled Surgical Video Analysis”\nDa Yan\, PhD\, Luddy School of Informatics\, Computing\, and Engineering\, IU Bloomington \n“Integrating Deep Learning into Computational Mass Spectrometry for Precision Health”\nHaixu Tang\, PhD\, Luddy School of Informatics\, Computing\, and Engineering\, IU Bloomington \n3:15-4:00 pm: Keynote Address \nSusan Gregurick\, PhD\, Associate Director for Data Science and Director of the Office of Data Science Strategy\, National Institutes of Health.
URL:https://indianactsi.org/event/2025-iu-bloomington-indiana-ctsi-summit-ai-and-health-research-summit/
LOCATION:Presidents Hall\, located in Franklin Hall\, 601 E Kirkwood Avenue\, Bloomington\, IN\, 47405\, United States
CATEGORIES:Campus Retreats
END:VEVENT
END:VCALENDAR