BEGIN:VCALENDAR
VERSION:2.0
PRODID:-//Indiana CTSI - ECPv6.15.18//NONSGML v1.0//EN
CALSCALE:GREGORIAN
METHOD:PUBLISH
X-WR-CALNAME:Indiana CTSI
X-ORIGINAL-URL:https://indianactsi.org
X-WR-CALDESC:Events for Indiana CTSI
REFRESH-INTERVAL;VALUE=DURATION:PT1H
X-Robots-Tag:noindex
X-PUBLISHED-TTL:PT1H
BEGIN:VTIMEZONE
TZID:America/Indiana/Indianapolis
BEGIN:DAYLIGHT
TZOFFSETFROM:-0500
TZOFFSETTO:-0400
TZNAME:EDT
DTSTART:20240310T070000
END:DAYLIGHT
BEGIN:STANDARD
TZOFFSETFROM:-0400
TZOFFSETTO:-0500
TZNAME:EST
DTSTART:20241103T060000
END:STANDARD
BEGIN:DAYLIGHT
TZOFFSETFROM:-0500
TZOFFSETTO:-0400
TZNAME:EDT
DTSTART:20250309T070000
END:DAYLIGHT
BEGIN:STANDARD
TZOFFSETFROM:-0400
TZOFFSETTO:-0500
TZNAME:EST
DTSTART:20251102T060000
END:STANDARD
BEGIN:DAYLIGHT
TZOFFSETFROM:-0500
TZOFFSETTO:-0400
TZNAME:EDT
DTSTART:20260308T070000
END:DAYLIGHT
BEGIN:STANDARD
TZOFFSETFROM:-0400
TZOFFSETTO:-0500
TZNAME:EST
DTSTART:20261101T060000
END:STANDARD
END:VTIMEZONE
BEGIN:VEVENT
DTSTART;TZID=America/Indiana/Indianapolis:20250402T070000
DTEND;TZID=America/Indiana/Indianapolis:20250402T080000
DTSTAMP:20260422T183534
CREATED:20250331T203946Z
LAST-MODIFIED:20250331T203946Z
UID:10000015-1743577200-1743580800@indianactsi.org
SUMMARY:Grant-Writing Office Hours | Research Plan: Significance\, innovation and approach
DESCRIPTION:Beginning January 15\, the Indiana CTSI will hold regularly scheduled Grant-Writing Open Office Hours. At each session\, attendees will hear from an expert on a specific topic\, and then there will be time for conversation and questions. \nThe first office hours session will be held on January 15 at 7:00 a.m. Starting in February\, they will take place the first Wednesday of each month from 7:00 a.m. – 8:00 a.m\, and the third Wednesday of the month from 12:00 p.m. – 1:00 p.m. Sessions will take place on Zoom. \nThese sessions are open to anyone affiliated with Indiana CTSI partner institutions. \nTo view the complete schedule for 2025\, check the registration form. \nQuestions? Contact Dr. Tammy Sajdyk.
URL:https://indianactsi.org/event/grant-writing-office-hours-research-plan-significance-innovation-and-approach/
LOCATION:Online
CATEGORIES:Funding
ORGANIZER;CN="Dr. Tammy Sajdyk":MAILTO:tsajdyk@iu.edu
END:VEVENT
END:VCALENDAR