BEGIN:VCALENDAR
VERSION:2.0
PRODID:-//Indiana CTSI - ECPv6.15.18//NONSGML v1.0//EN
CALSCALE:GREGORIAN
METHOD:PUBLISH
X-WR-CALNAME:Indiana CTSI
X-ORIGINAL-URL:https://indianactsi.org
X-WR-CALDESC:Events for Indiana CTSI
REFRESH-INTERVAL;VALUE=DURATION:PT1H
X-Robots-Tag:noindex
X-PUBLISHED-TTL:PT1H
BEGIN:VTIMEZONE
TZID:America/Indiana/Indianapolis
BEGIN:DAYLIGHT
TZOFFSETFROM:-0500
TZOFFSETTO:-0400
TZNAME:EDT
DTSTART:20250309T070000
END:DAYLIGHT
BEGIN:STANDARD
TZOFFSETFROM:-0400
TZOFFSETTO:-0500
TZNAME:EST
DTSTART:20251102T060000
END:STANDARD
BEGIN:DAYLIGHT
TZOFFSETFROM:-0500
TZOFFSETTO:-0400
TZNAME:EDT
DTSTART:20260308T070000
END:DAYLIGHT
BEGIN:STANDARD
TZOFFSETFROM:-0400
TZOFFSETTO:-0500
TZNAME:EST
DTSTART:20261101T060000
END:STANDARD
BEGIN:DAYLIGHT
TZOFFSETFROM:-0500
TZOFFSETTO:-0400
TZNAME:EDT
DTSTART:20270314T070000
END:DAYLIGHT
BEGIN:STANDARD
TZOFFSETFROM:-0400
TZOFFSETTO:-0500
TZNAME:EST
DTSTART:20271107T060000
END:STANDARD
END:VTIMEZONE
BEGIN:VEVENT
DTSTART;TZID=America/Indiana/Indianapolis:20260224T120000
DTEND;TZID=America/Indiana/Indianapolis:20260224T130000
DTSTAMP:20260422T061758
CREATED:20260108T145605Z
LAST-MODIFIED:20260108T150008Z
UID:10000030-1771934400-1771938000@indianactsi.org
SUMMARY:AI Workshop Series | Third-party AI tools for research at IU
DESCRIPTION:This series from the Indiana CTSI aims to educate attendees on leveraging AI basic principles and tools\, its ethics to improve productivity\, facilitate work processes\, and address ethical considerations. The series is open to anyone interested in the topics\, with each session lasting one hour and presented in a hybrid format – in person at the Regenstrief Social Hub (capped at 90 participants)\, or virtual (no limit). \nEach session will also be recorded and made available after the event. \n____________________________________________________________________________________ \nFebruary 24\, 2026 \nPresenter: Scott Michael\, PhD \nRegister to attend \nThis session will cover all of the commercial 3rd party generative AI tools provided by the university for use in research. These include Gemini\, Copilot\, ChatGPT\, and AzureAI. The session will highlight research workflows and use cases that are best suited to each of those tools.
URL:https://indianactsi.org/event/ai-workshop-series-third-party-ai-tools-for-research-at-iu/
LOCATION:Regenstrief Social Hub\, 1101 W 10th Street\, Indianapolis\, IN\, 46202\, United States
CATEGORIES:AI Workshop Series,Networking,Training
END:VEVENT
BEGIN:VEVENT
DTSTART;TZID=America/Indiana/Indianapolis:20260324T120000
DTEND;TZID=America/Indiana/Indianapolis:20260324T130000
DTSTAMP:20260422T061758
CREATED:20260108T150316Z
LAST-MODIFIED:20260108T150316Z
UID:10000032-1774353600-1774357200@indianactsi.org
SUMMARY:AI Workshop Series | Research technologies AI tools for research at IU
DESCRIPTION:This series from the Indiana CTSI aims to educate attendees on leveraging AI basic principles and tools\, its ethics to improve productivity\, facilitate work processes\, and address ethical considerations. The series is open to anyone interested in the topics\, with each session lasting one hour and presented in a hybrid format – in person at the Regenstrief Social Hub (capped at 90 participants)\, or virtual (no limit). \nEach session will also be recorded and made available after the event. \n____________________________________________________________________________________ \nMarch 24\, 2026 \nPresenter: Scott Michael\, PhD \nRegister to attend \nThis session will cover all of the generative AI tools provided by the Research Technologies division of UITS for use in research. These include REALLMs chat\, REALLMs API\, CarbonCopy\, running LLMs on high-performance computers\, and REDCap AI. The session will highlight research workflows and use cases best suited to each of these tools.
URL:https://indianactsi.org/event/ai-workshop-series-research-technologies-ai-tools-for-research-at-iu/
LOCATION:Regenstrief Social Hub\, 1101 W 10th Street\, Indianapolis\, IN\, 46202\, United States
CATEGORIES:AI Workshop Series,Networking,Training
END:VEVENT
BEGIN:VEVENT
DTSTART;TZID=America/Indiana/Indianapolis:20260421T120000
DTEND;TZID=America/Indiana/Indianapolis:20260421T130000
DTSTAMP:20260422T061758
CREATED:20260108T145817Z
LAST-MODIFIED:20260108T145900Z
UID:10000031-1776772800-1776776400@indianactsi.org
SUMMARY:AI Workshop Series | Use case examples of AI tools in research workflows
DESCRIPTION:This series from the Indiana CTSI aims to educate attendees on leveraging AI basic principles and tools\, its ethics to improve productivity\, facilitate work processes\, and address ethical considerations. The series is open to anyone interested in the topics\, with each session lasting one hour and presented in a hybrid format – in person at the Regenstrief Social Hub (capped at 90 participants)\, or virtual (no limit). \nEach session will also be recorded and made available after the event. \n____________________________________________________________________________________ \nApril 21\, 2026 \nPresenter: Scott Michael\, PhD and Shaun Grannis\, MD\, MS \nRegister to attend \nSynopsis coming soon.
URL:https://indianactsi.org/event/ai-workshop-series-use-case-examples-of-ai-tools-in-research-workflows/
LOCATION:Regenstrief Social Hub\, 1101 W 10th Street\, Indianapolis\, IN\, 46202\, United States
CATEGORIES:AI Workshop Series,Networking,Training
END:VEVENT
BEGIN:VEVENT
DTSTART;TZID=America/Indiana/Indianapolis:20260424T110000
DTEND;TZID=America/Indiana/Indianapolis:20260424T120000
DTSTAMP:20260422T061758
CREATED:20260326T142442Z
LAST-MODIFIED:20260326T142442Z
UID:10000036-1777028400-1777032000@indianactsi.org
SUMMARY:Community Health Partnerships | 2026 Trailblazer Award and Planning Grant Informational Webinar
DESCRIPTION:Want to learn more about the Community Health Partnerships Trailblazer and Trailblazer Planning Grant awards? Join the 2026 informational webinar and Q&A!\nThis year’s webinar will take place on Friday\, April 24\, 2026 at 11:00 a.m. After you register to attend you will receive a confirmation email containing information on how to join the meeting. \n  \nRegister to attend
URL:https://indianactsi.org/event/community-health-partnerships-2026-trailblazer-award-and-planning-grant-informational-webinar/
LOCATION:Online
CATEGORIES:Community Health Partnerships,Funding
END:VEVENT
BEGIN:VEVENT
DTSTART;TZID=America/Indiana/Indianapolis:20260505T120000
DTEND;TZID=America/Indiana/Indianapolis:20260505T130000
DTSTAMP:20260422T061758
CREATED:20260413T170354Z
LAST-MODIFIED:20260413T181823Z
UID:10000037-1777982400-1777986000@indianactsi.org
SUMMARY:Powered by the PDTs: Advancing Your Research with the Indiana CTSI's Project Development Teams
DESCRIPTION:The Indiana CTSI’s Project Development Teams (PDTs) help researchers turn their ideas into realities.   \nOn May 5\, from 12-1pm\, the Indiana CTSI will host a virtual informational event where researchers can learn about the PDTs directly from other researchers who have benefitted from their guidance and support. \nGetting funding is tough. PDTs strengthen your ideas\, your strategy\, and your path to support. Have questions? Join us on May 5.
URL:https://indianactsi.org/event/powered-by-the-pdts-advancing-your-research-with-the-indiana-ctsis-project-development-teams/
LOCATION:Online
END:VEVENT
BEGIN:VEVENT
DTSTART;TZID=America/Indiana/Indianapolis:20260519T120000
DTEND;TZID=America/Indiana/Indianapolis:20260519T130000
DTSTAMP:20260422T061758
CREATED:20260108T150611Z
LAST-MODIFIED:20260108T150611Z
UID:10000033-1779192000-1779195600@indianactsi.org
SUMMARY:AI Workshop Series | AI in clinical research
DESCRIPTION:This series from the Indiana CTSI aims to educate attendees on leveraging AI basic principles and tools\, its ethics to improve productivity\, facilitate work processes\, and address ethical considerations. The series is open to anyone interested in the topics\, with each session lasting one hour and presented in a hybrid format – in person at the Regenstrief Social Hub (capped at 90 participants)\, or virtual (no limit). \nEach session will also be recorded and made available after the event. \n____________________________________________________________________________________ \nMay 19\, 2026 \nPresenter: Randall W. Grout\, MD \nRegister to attend \nSynopsis coming soon.
URL:https://indianactsi.org/event/ai-workshop-series-ai-in-clinical-research/
LOCATION:Regenstrief Social Hub\, 1101 W 10th Street\, Indianapolis\, IN\, 46202\, United States
CATEGORIES:AI Workshop Series,Networking,Training
END:VEVENT
BEGIN:VEVENT
DTSTART;TZID=America/Indiana/Indianapolis:20260918T080000
DTEND;TZID=America/Indiana/Indianapolis:20260918T160000
DTSTAMP:20260422T061758
CREATED:20260113T150358Z
LAST-MODIFIED:20260319T133206Z
UID:10000034-1789718400-1789747200@indianactsi.org
SUMMARY:2026 Indiana CTSI Annual Meeting
DESCRIPTION:Details to come.
URL:https://indianactsi.org/event/2026-indiana-ctsi-annual-meeting/
LOCATION:Hine Hall\, 875 W North St\, Indianapolis\, IN\, 462502\, United States
END:VEVENT
END:VCALENDAR