BEGIN:VCALENDAR
VERSION:2.0
PRODID:-//Indiana CTSI - ECPv6.15.18//NONSGML v1.0//EN
CALSCALE:GREGORIAN
METHOD:PUBLISH
X-ORIGINAL-URL:https://indianactsi.org
X-WR-CALDESC:Events for Indiana CTSI
REFRESH-INTERVAL;VALUE=DURATION:PT1H
X-Robots-Tag:noindex
X-PUBLISHED-TTL:PT1H
BEGIN:VTIMEZONE
TZID:America/Indiana/Indianapolis
BEGIN:DAYLIGHT
TZOFFSETFROM:-0500
TZOFFSETTO:-0400
TZNAME:EDT
DTSTART:20240310T070000
END:DAYLIGHT
BEGIN:STANDARD
TZOFFSETFROM:-0400
TZOFFSETTO:-0500
TZNAME:EST
DTSTART:20241103T060000
END:STANDARD
BEGIN:DAYLIGHT
TZOFFSETFROM:-0500
TZOFFSETTO:-0400
TZNAME:EDT
DTSTART:20250309T070000
END:DAYLIGHT
BEGIN:STANDARD
TZOFFSETFROM:-0400
TZOFFSETTO:-0500
TZNAME:EST
DTSTART:20251102T060000
END:STANDARD
BEGIN:DAYLIGHT
TZOFFSETFROM:-0500
TZOFFSETTO:-0400
TZNAME:EDT
DTSTART:20260308T070000
END:DAYLIGHT
BEGIN:STANDARD
TZOFFSETFROM:-0400
TZOFFSETTO:-0500
TZNAME:EST
DTSTART:20261101T060000
END:STANDARD
BEGIN:DAYLIGHT
TZOFFSETFROM:-0500
TZOFFSETTO:-0400
TZNAME:EDT
DTSTART:20270314T070000
END:DAYLIGHT
BEGIN:STANDARD
TZOFFSETFROM:-0400
TZOFFSETTO:-0500
TZNAME:EST
DTSTART:20271107T060000
END:STANDARD
END:VTIMEZONE
BEGIN:VEVENT
DTSTART;TZID=America/Indiana/Indianapolis:20250806T070000
DTEND;TZID=America/Indiana/Indianapolis:20250806T080000
DTSTAMP:20260422T183835
CREATED:20250331T192722Z
LAST-MODIFIED:20250527T133729Z
UID:10000005-1754463600-1754467200@indianactsi.org
SUMMARY:Grant-Writing Office Hours | Finding core services and using biobank samples
DESCRIPTION:Beginning January 15\, the Indiana CTSI will hold regularly scheduled Grant-Writing Open Office Hours. At each session\, attendees will hear from an expert on a specific topic\, and then there will be time for conversation and questions. \nThe first office hours session will be held on January 15 at 7:00 a.m. Starting in February\, they will take place the first Wednesday of each month from 7:00 a.m. – 8:00 a.m.\, and the third Wednesday of the month from 12:00 p.m. – 1:00 p.m. Sessions will take place on Zoom. \nThese sessions are open to anyone affiliated with Indiana CTSI partner institutions. \nTo view the complete schedule for 2025\, check the registration form. \nQuestions? Contact Dr. Tammy Sajdyk.
URL:https://indianactsi.org/event/grant-writing-office-hours-finding-core-services-and-using-biobank-samples/
LOCATION:Online
CATEGORIES:Funding
ORGANIZER;CN="Dr. Tammy Sajdyk":MAILTO:tsajdyk@iu.edu
END:VEVENT
BEGIN:VEVENT
DTSTART;TZID=America/Indiana/Indianapolis:20250806T120000
DTEND;TZID=America/Indiana/Indianapolis:20250806T130000
DTSTAMP:20260422T183835
CREATED:20250707T185335Z
LAST-MODIFIED:20250707T185335Z
UID:10000017-1754481600-1754485200@indianactsi.org
SUMMARY:AI Workshop Series | AI in the research workflow: Practical applications of large language models across the stages of research
DESCRIPTION:This new series from the Indiana CTSI aims to educate attendees on leveraging AI basic principles and tools\, its ethics to improve productivity\, facilitate work processes\, and address ethical considerations. The series is open to anyone interested in the topics\, with each session lasting one hour and presented in a hybrid format – in person at the Regenstrief Social Hub (capped at 90 participants)\, or virtual (no limit). \nEach session will also be recorded and made available after the event. \n____________________________________________________________________________________ \nAugust 6\, 2025 \nPresenter: Kosali Simon\, PhD\, MA \nThis session will explore how researchers across disciplines can harness the power of large language models (LLMs)–like ChatGPT and other AI tools–to enhance research productivity and innovation. We’ll walk through practical use cases for AI in literature synthesis\, protocol refinement\, data management\, coding assistance\, and pre- peer review diagnostics. Special attention will be given to how LLMs can support those with minimal research data programming experience\, using small dataset examples and natural language prompts. The talk will also address responsible use\, evolving norms for acknowledgment\, and the emerging “safe harbors” for ethical integration of AI in research. Whether you’re working with complex code or developing clinical protocols\, this presentation will offer accessible tools and guidance for integrating AI into your workflow.
URL:https://indianactsi.org/event/ai-workshop-series-ai-in-the-research-workflow/
LOCATION:Regenstrief Social Hub\, 1101 W 10th Street\, Indianapolis\, IN\, 46202\, United States
CATEGORIES:AI Workshop Series,Networking,Training
ORGANIZER;CN="Medina Sydykanova":MAILTO:msydyka@regenstrief.org
END:VEVENT
BEGIN:VEVENT
DTSTART;TZID=America/Indiana/Indianapolis:20250820T120000
DTEND;TZID=America/Indiana/Indianapolis:20250820T130000
DTSTAMP:20260422T183835
CREATED:20250331T192550Z
LAST-MODIFIED:20250820T140152Z
UID:10000004-1755691200-1755694800@indianactsi.org
SUMMARY:Grant-Writing Office Hours | Bioethics/regulatory issues
DESCRIPTION:Beginning January 15\, the Indiana CTSI will hold regularly scheduled Grant-Writing Open Office Hours. At each session\, attendees will hear from an expert on a specific topic\, and then there will be time for conversation and questions. \nThe first office hours session will be held on January 15 at 7:00 a.m. Starting in February\, they will take place the first Wednesday of each month from 7:00 a.m. – 8:00 a.m\, and the third Wednesday of the month from 12:00 p.m. – 1:00 p.m. Sessions will take place on Zoom. \nThese sessions are open to anyone affiliated with Indiana CTSI partner institutions. \nTo view the complete schedule for 2025\, check the registration form. \nQuestions? Contact Dr. Tammy Sajdyk.
URL:https://indianactsi.org/event/grant-writing-office-hours-bioethics-regulatory-issues/
LOCATION:Online
CATEGORIES:Funding
ORGANIZER;CN="Dr. Tammy Sajdyk":MAILTO:tsajdyk@iu.edu
END:VEVENT
BEGIN:VEVENT
DTSTART;TZID=America/Indiana/Indianapolis:20250903T070000
DTEND;TZID=America/Indiana/Indianapolis:20250903T080000
DTSTAMP:20260422T183835
CREATED:20250331T191902Z
LAST-MODIFIED:20250820T140226Z
UID:10000003-1756882800-1756886400@indianactsi.org
SUMMARY:Grant-Writing Office Hours | Community engagement
DESCRIPTION:Beginning January 15\, the Indiana CTSI will hold regularly scheduled Grant-Writing Open Office Hours. At each session\, attendees will hear from an expert on a specific topic\, and then there will be time for conversation and questions. \nThe first office hours session will be held on January 15 at 7:00 a.m. Starting in February\, they will take place the first Wednesday of each month from 7:00 a.m. – 8:00 a.m.\, and the third Wednesday of the month from 12:00 p.m. – 1:00 p.m. Sessions will take place on Zoom. \nThese sessions are open to anyone affiliated with Indiana CTSI partner institutions. \nTo view the complete schedule for 2025\, check the registration form. \nQuestions? Contact Dr. Tammy Sajdyk.
URL:https://indianactsi.org/event/grant-writing-office-hours-community-engagement/
LOCATION:Online
CATEGORIES:Funding
ORGANIZER;CN="Dr. Tammy Sajdyk":MAILTO:tsajdyk@iu.edu
END:VEVENT
BEGIN:VEVENT
DTSTART;TZID=America/Indiana/Indianapolis:20250910T120000
DTEND;TZID=America/Indiana/Indianapolis:20250910T130000
DTSTAMP:20260422T183835
CREATED:20250331T182632Z
LAST-MODIFIED:20250331T192209Z
UID:10000002-1757505600-1757509200@indianactsi.org
SUMMARY:Grant-Writing Office Hours | SPECIAL SESSION: Learning how to review grants
DESCRIPTION:Beginning January 15\, the Indiana CTSI will hold regularly scheduled Grant-Writing Open Office Hours. At each session\, attendees will hear from an expert on a specific topic\, and then there will be time for conversation and questions. \nThe first office hours session will be held on January 15 at 7:00 a.m. Starting in February\, they will take place the first Wednesday of each month from 7:00 a.m. – 8:00 a.m\, and the third Wednesday of the month from 12:00 p.m. – 1:00 p.m. Sessions will take place on Zoom. \nThese sessions are open to anyone affiliated with Indiana CTSI partner institutions. \nTo view the complete schedule for 2025\, check the registration form. \nQuestions? Contact Dr. Tammy Sajdyk.
URL:https://indianactsi.org/event/grant-writing-office-hours-special-session-learning-how-to-review-grants/
LOCATION:Online
CATEGORIES:Funding
ORGANIZER;CN="Indiana CTSI":MAILTO:ctsihub@iu.edu
END:VEVENT
BEGIN:VEVENT
DTSTART;TZID=America/Indiana/Indianapolis:20250917T120000
DTEND;TZID=America/Indiana/Indianapolis:20250917T130000
DTSTAMP:20260422T183835
CREATED:20250731T161138Z
LAST-MODIFIED:20250731T161138Z
UID:10000021-1758110400-1758114000@indianactsi.org
SUMMARY:AI Workshop Series | AI and Research Ethics: Moving Beyond "New Tools\, Old Rules"
DESCRIPTION:This new series from the Indiana CTSI aims to educate attendees on leveraging AI basic principles and tools\, its ethics to improve productivity\, facilitate work processes\, and address ethical considerations. The series is open to anyone interested in the topics\, with each session lasting one hour and presented in a hybrid format – in person at the Regenstrief Social Hub (capped at 90 participants)\, or virtual (no limit). \nEach session will also be recorded and made available after the event. \n____________________________________________________________________________________ \nSeptember 17\, 2025 \nPresenter: Peter Schwartz\, MD\, PhD \nSynopsis available soon
URL:https://indianactsi.org/event/ai-workshop-series-ai-and-research-ethics-moving-beyond-new-tools-old-rules/
LOCATION:Regenstrief Social Hub\, 1101 W 10th Street\, Indianapolis\, IN\, 46202\, United States
CATEGORIES:AI Workshop Series,Networking,Training
ORGANIZER;CN="Medina Sydykanova":MAILTO:msydyka@regenstrief.org
END:VEVENT
BEGIN:VEVENT
DTSTART;TZID=America/Indiana/Indianapolis:20251023T100000
DTEND;TZID=America/Indiana/Indianapolis:20251023T153000
DTSTAMP:20260422T183835
CREATED:20250923T144812Z
LAST-MODIFIED:20250923T145019Z
UID:10000025-1761213600-1761233400@indianactsi.org
SUMMARY:Community Health Partnerships 2025 Annual Meeting | Bend\, don't break: Staying strong in uncertain times
DESCRIPTION:A variety of partners will be joining to share their stories of resiliency and success to provide an uplifting and inspirational time for people to recharge\, celebrate successes and remember why we do this work. \nMore details to come. \nRegister to attend:\nDay 1 – October 23\, 2025\nDay 2 – October 24\, 2025
URL:https://indianactsi.org/event/community-health-partnerships-2025-annual-meeting-bend-dont-break-staying-strong-in-uncertain-times/
LOCATION:Online
CATEGORIES:Annual Meeting,Community Health Partnerships
ORGANIZER;CN="Community Health Partnerships":MAILTO:chep@iu.edu
END:VEVENT
BEGIN:VEVENT
DTSTART;TZID=America/Indiana/Indianapolis:20251024T100000
DTEND;TZID=America/Indiana/Indianapolis:20251024T120000
DTSTAMP:20260422T183835
CREATED:20250923T144916Z
LAST-MODIFIED:20250923T145029Z
UID:10000026-1761300000-1761307200@indianactsi.org
SUMMARY:Community Health Partnerships 2025 Annual Meeting | Bend\, don't break: Staying strong in uncertain times
DESCRIPTION:A variety of partners will be joining to share their stories of resiliency and success to provide an uplifting and inspirational time for people to recharge\, celebrate successes and remember why we do this work. \nMore details to come. \nRegister to attend:\nDay 1 – October 23\, 2025\nDay 2 – October 24\, 2025
URL:https://indianactsi.org/event/community-health-partnerships-2025-annual-meeting-bend-dont-break-staying-strong-in-uncertain-times-2/
LOCATION:Online
CATEGORIES:Annual Meeting,Community Health Partnerships
ORGANIZER;CN="Community Health Partnerships":MAILTO:chep@iu.edu
END:VEVENT
BEGIN:VEVENT
DTSTART;TZID=America/Indiana/Indianapolis:20251029T120000
DTEND;TZID=America/Indiana/Indianapolis:20251029T130000
DTSTAMP:20260422T183835
CREATED:20250731T161351Z
LAST-MODIFIED:20251020T173308Z
UID:10000022-1761739200-1761742800@indianactsi.org
SUMMARY:AI Workshop Series | AI in Qualitative Research: Opportunities\, Applications\, and Ethical Considerations
DESCRIPTION:This new series from the Indiana CTSI aims to educate attendees on leveraging AI basic principles and tools\, its ethics to improve productivity\, facilitate work processes\, and address ethical considerations. The series is open to anyone interested in the topics\, with each session lasting one hour and presented in a hybrid format – in person at the Regenstrief Social Hub (capped at 90 participants)\, or virtual (no limit). \nEach session will also be recorded and made available after the event. \n____________________________________________________________________________________ \nOctober 29\, 2025 \nPresenters: Rachel Patzer\, PhD\, MPH and Adam Wilk\, PhD \nThis talk will explore the opportunities and challenges of using AI for qualitative data collection\, transcription\, thematic analysis\, and mixed-methods studies. Case studies will compare manual and AI-assisted approaches to transcription and thematic analysis\, highlight ethical considerations\, and offer practical tips for critically evaluating AI outputs. The talk will offer perspective on how AI can accelerate—but not replace—some qualitative research approaches\, the strengths and limitations of AI-assisted transcription and analysis\, ethical and methodological challenges in using AI for qualitative work\, and strategies for integrating AI into mixed-methods research. Whether you’re a qualitative expert\, a quantitative data scientist\, or simply curious about the future of AI in research\, this session will provide actionable insights and spark thoughtful discussion. \nRegistration is now open
URL:https://indianactsi.org/event/ai-workshop-series-ai-in-qualitative-research/
LOCATION:Regenstrief Social Hub\, 1101 W 10th Street\, Indianapolis\, IN\, 46202\, United States
CATEGORIES:AI Workshop Series,Networking,Training
ORGANIZER;CN="Medina Sydykanova":MAILTO:msydyka@regenstrief.org
END:VEVENT
BEGIN:VEVENT
DTSTART;TZID=America/Indiana/Indianapolis:20251121T083000
DTEND;TZID=America/Indiana/Indianapolis:20251121T160000
DTSTAMP:20260422T183835
CREATED:20250911T144324Z
LAST-MODIFIED:20251023T114114Z
UID:10000024-1763713800-1763740800@indianactsi.org
SUMMARY:2025 Indiana CTSI Annual Meeting | Moving the Needle: Treating Diabetes Together
DESCRIPTION:On November 21\, let’s move the needle on diabetes.\nDiabetes is the eighth leading cause of death in the United States. Twelve percent of Hoosiers have the disease. The burden is significant\, and the problems are complex. But Indiana has a rich history of innovation in diabetes treatments\, from Eli Lilly and Company pioneering the commercial production of insulin in 1923 to groundbreaking research on new drugs\, innovative technologies\, and other interventions at the state’s premier research institutions. \nWe will celebrate and advance this legacy at the 2025 Annual Meeting of the Indiana CTSI. The theme is “Moving the Needle: Treating Diabetes Together.” \nDuring the meeting\, we will be honored to present the 2025 August M. Watanabe Prize in Translational Research to Kevan Herold\, MD\, C.N.H. Long Professor of Immunobiology and of Medicine at Yale School of Medicine. \nREGISTRATION IS NOW OPEN. Please register by November 7.
URL:https://indianactsi.org/event/2025-indiana-ctsi-annual-meeting-moving-the-needle-treating-diabetes-together/
LOCATION:Hine Hall\, 875 W North St\, Indianapolis\, IN\, 462502\, United States
CATEGORIES:Annual Meeting
ORGANIZER;CN="Indiana CTSI":MAILTO:ctsihub@iu.edu
END:VEVENT
BEGIN:VEVENT
DTSTART;TZID=America/Indiana/Indianapolis:20251204T113000
DTEND;TZID=America/Indiana/Indianapolis:20251204T143000
DTSTAMP:20260422T183835
CREATED:20251030T142716Z
LAST-MODIFIED:20251030T142716Z
UID:10000027-1764847800-1764858600@indianactsi.org
SUMMARY:Fusing systems engineering and implementation science: a unique approach to inform innovative organizational change in healthcare
DESCRIPTION:An in-person implementation research methods workshop with the 2025 Jonathan and Jennifer Simmons Implementation Science Lecturer \nDr. James H. (Jay) Ford II\, leading expert in health systems engineering and implementation science \nEffective and sustainable organizational change is critical to the design of dissemination and implementation research. A failure to sustain changes is a direct waste of organizational resources and can lead to change fatigue. Dr. Ford’s research integrates health systems engineering principles\, quality improvement tools and techniques with Dissemination and Implementation (D&I) principles\, frameworks\, and strategies and focuses on the dissemination\, implementation\, and sustainment of organizational change. \nLearn more and register
URL:https://indianactsi.org/event/fusing-systems-engineering-and-implementation-science-a-unique-approach-to-inform-innovative-organizational-change-in-healthcare/
LOCATION:Regenstrief Institute\, 1101 W 10th Street\, Indianapolis\, IN\, 46202\, United States
END:VEVENT
BEGIN:VEVENT
DTSTART;TZID=America/Indiana/Indianapolis:20251209T120000
DTEND;TZID=America/Indiana/Indianapolis:20251209T130000
DTSTAMP:20260422T183835
CREATED:20250731T164740Z
LAST-MODIFIED:20251203T165543Z
UID:10000023-1765281600-1765285200@indianactsi.org
SUMMARY:AI Workshop Series | Using AI to Communicate Health Research in a Relatable Way
DESCRIPTION:This new series from the Indiana CTSI aims to educate attendees on leveraging AI basic principles and tools\, its ethics to improve productivity\, facilitate work processes\, and address ethical considerations. The series is open to anyone interested in the topics\, with each session lasting one hour and presented in a hybrid format – in person at the Regenstrief Social Hub (capped at 90 participants)\, or virtual (no limit). \nEach session will also be recorded and made available after the event. \n____________________________________________________________________________________ \nDecember 9\, 2025 (rescheduled from November 18) \nPresenter: Lynsey Delp and Melissa Pangelinan\, PhD \nThis session will explore how AI can enhance the research experience for study participants\, starting at enrollment. Discussion will focus on using AI to create and refine standard operating procedures\, improve participant engagement scripts\, automate study reminders\, and strengthen hospitality and fidelity practices throughout study visits.
URL:https://indianactsi.org/event/using-ai-to-communicate-health-research-in-a-relatable-way/
LOCATION:Regenstrief Social Hub\, 1101 W 10th Street\, Indianapolis\, IN\, 46202\, United States
CATEGORIES:AI Workshop Series,Networking,Training
ORGANIZER;CN="Medina Sydykanova":MAILTO:msydyka@regenstrief.org
END:VEVENT
BEGIN:VEVENT
DTSTART;TZID=America/Indiana/Indianapolis:20260127T120000
DTEND;TZID=America/Indiana/Indianapolis:20260127T130000
DTSTAMP:20260422T183835
CREATED:20260108T144657Z
LAST-MODIFIED:20260108T144913Z
UID:10000029-1769515200-1769518800@indianactsi.org
SUMMARY:AI Workshop Series | Overview of AI Concepts in Research
DESCRIPTION:This series from the Indiana CTSI aims to educate attendees on leveraging AI basic principles and tools\, its ethics to improve productivity\, facilitate work processes\, and address ethical considerations. The series is open to anyone interested in the topics\, with each session lasting one hour and presented in a hybrid format – in person at the Regenstrief Social Hub (capped at 90 participants)\, or virtual (no limit). \nEach session will also be recorded and made available after the event. \n____________________________________________________________________________________ \nJanuary 27\, 2026 \nPresenter: Scott Michael\, PhD \nRegister to attend \nThis session will focus on the basic principles and tools of AI and how to apply to to a research workflow. The session focuses on generative AI techniques and specifically how to apply large language models (LLMs) to research workflows. We will cover the basics of LLMs; alternatives for interacting with an LLM such as basic chat\, IDEs\, or APIs; techniques for LLM specialization such as model fine tuning and retrieval augmentation generation (RAG); foundational vs. specialized generational models; federated learning; and data sensitivity considerations when working with LLMs.
URL:https://indianactsi.org/event/ai-workshop-series-overview-of-ai-concepts-in-research/
LOCATION:Regenstrief Social Hub\, 1101 W 10th Street\, Indianapolis\, IN\, 46202\, United States
CATEGORIES:AI Workshop Series,Networking,Training
END:VEVENT
BEGIN:VEVENT
DTSTART;TZID=America/Indiana/Indianapolis:20260206T110000
DTEND;TZID=America/Indiana/Indianapolis:20260206T130000
DTSTAMP:20260422T183835
CREATED:20260116T170819Z
LAST-MODIFIED:20260116T170819Z
UID:10000035-1770375600-1770382800@indianactsi.org
SUMMARY:Cores Research Rally
DESCRIPTION:Join the Indiana CTSI for the Cores Research Rally at the VanNuys Medical Sciences Building atrium on the IU School of Medicine campus in Indianapolis. \n\n25+ cores represented\nEnter to win a $500 credit to a CTSI-designated core facility of your choice\nLight lunch provided (first-come basis)\n\nFor a full list of cores\, please visit our website.
URL:https://indianactsi.org/event/cores-research-rally/
LOCATION:Van Nuys Medical Science Building Atrium\, 635 Barnhill Drive\, Indianapolis\, IN\, 46202\, United States
END:VEVENT
BEGIN:VEVENT
DTSTART;TZID=America/Indiana/Indianapolis:20260224T120000
DTEND;TZID=America/Indiana/Indianapolis:20260224T130000
DTSTAMP:20260422T183835
CREATED:20260108T145605Z
LAST-MODIFIED:20260108T150008Z
UID:10000030-1771934400-1771938000@indianactsi.org
SUMMARY:AI Workshop Series | Third-party AI tools for research at IU
DESCRIPTION:This series from the Indiana CTSI aims to educate attendees on leveraging AI basic principles and tools\, its ethics to improve productivity\, facilitate work processes\, and address ethical considerations. The series is open to anyone interested in the topics\, with each session lasting one hour and presented in a hybrid format – in person at the Regenstrief Social Hub (capped at 90 participants)\, or virtual (no limit). \nEach session will also be recorded and made available after the event. \n____________________________________________________________________________________ \nFebruary 24\, 2026 \nPresenter: Scott Michael\, PhD \nRegister to attend \nThis session will cover all of the commercial 3rd party generative AI tools provided by the university for use in research. These include Gemini\, Copilot\, ChatGPT\, and AzureAI. The session will highlight research workflows and use cases that are best suited to each of those tools.
URL:https://indianactsi.org/event/ai-workshop-series-third-party-ai-tools-for-research-at-iu/
LOCATION:Regenstrief Social Hub\, 1101 W 10th Street\, Indianapolis\, IN\, 46202\, United States
CATEGORIES:AI Workshop Series,Networking,Training
END:VEVENT
BEGIN:VEVENT
DTSTART;TZID=America/Indiana/Indianapolis:20260324T120000
DTEND;TZID=America/Indiana/Indianapolis:20260324T130000
DTSTAMP:20260422T183835
CREATED:20260108T150316Z
LAST-MODIFIED:20260108T150316Z
UID:10000032-1774353600-1774357200@indianactsi.org
SUMMARY:AI Workshop Series | Research technologies AI tools for research at IU
DESCRIPTION:This series from the Indiana CTSI aims to educate attendees on leveraging AI basic principles and tools\, its ethics to improve productivity\, facilitate work processes\, and address ethical considerations. The series is open to anyone interested in the topics\, with each session lasting one hour and presented in a hybrid format – in person at the Regenstrief Social Hub (capped at 90 participants)\, or virtual (no limit). \nEach session will also be recorded and made available after the event. \n____________________________________________________________________________________ \nMarch 24\, 2026 \nPresenter: Scott Michael\, PhD \nRegister to attend \nThis session will cover all of the generative AI tools provided by the Research Technologies division of UITS for use in research. These include REALLMs chat\, REALLMs API\, CarbonCopy\, running LLMs on high-performance computers\, and REDCap AI. The session will highlight research workflows and use cases best suited to each of these tools.
URL:https://indianactsi.org/event/ai-workshop-series-research-technologies-ai-tools-for-research-at-iu/
LOCATION:Regenstrief Social Hub\, 1101 W 10th Street\, Indianapolis\, IN\, 46202\, United States
CATEGORIES:AI Workshop Series,Networking,Training
END:VEVENT
BEGIN:VEVENT
DTSTART;TZID=America/Indiana/Indianapolis:20260421T120000
DTEND;TZID=America/Indiana/Indianapolis:20260421T130000
DTSTAMP:20260422T183835
CREATED:20260108T145817Z
LAST-MODIFIED:20260108T145900Z
UID:10000031-1776772800-1776776400@indianactsi.org
SUMMARY:AI Workshop Series | Use case examples of AI tools in research workflows
DESCRIPTION:This series from the Indiana CTSI aims to educate attendees on leveraging AI basic principles and tools\, its ethics to improve productivity\, facilitate work processes\, and address ethical considerations. The series is open to anyone interested in the topics\, with each session lasting one hour and presented in a hybrid format – in person at the Regenstrief Social Hub (capped at 90 participants)\, or virtual (no limit). \nEach session will also be recorded and made available after the event. \n____________________________________________________________________________________ \nApril 21\, 2026 \nPresenter: Scott Michael\, PhD and Shaun Grannis\, MD\, MS \nRegister to attend \nSynopsis coming soon.
URL:https://indianactsi.org/event/ai-workshop-series-use-case-examples-of-ai-tools-in-research-workflows/
LOCATION:Regenstrief Social Hub\, 1101 W 10th Street\, Indianapolis\, IN\, 46202\, United States
CATEGORIES:AI Workshop Series,Networking,Training
END:VEVENT
BEGIN:VEVENT
DTSTART;TZID=America/Indiana/Indianapolis:20260424T110000
DTEND;TZID=America/Indiana/Indianapolis:20260424T120000
DTSTAMP:20260422T183835
CREATED:20260326T142442Z
LAST-MODIFIED:20260326T142442Z
UID:10000036-1777028400-1777032000@indianactsi.org
SUMMARY:Community Health Partnerships | 2026 Trailblazer Award and Planning Grant Informational Webinar
DESCRIPTION:Want to learn more about the Community Health Partnerships Trailblazer and Trailblazer Planning Grant awards? Join the 2026 informational webinar and Q&A!\nThis year’s webinar will take place on Friday\, April 24\, 2026 at 11:00 a.m. After you register to attend you will receive a confirmation email containing information on how to join the meeting. \n  \nRegister to attend
URL:https://indianactsi.org/event/community-health-partnerships-2026-trailblazer-award-and-planning-grant-informational-webinar/
LOCATION:Online
CATEGORIES:Community Health Partnerships,Funding
END:VEVENT
BEGIN:VEVENT
DTSTART;TZID=America/Indiana/Indianapolis:20260505T120000
DTEND;TZID=America/Indiana/Indianapolis:20260505T130000
DTSTAMP:20260422T183835
CREATED:20260413T170354Z
LAST-MODIFIED:20260413T181823Z
UID:10000037-1777982400-1777986000@indianactsi.org
SUMMARY:Powered by the PDTs: Advancing Your Research with the Indiana CTSI's Project Development Teams
DESCRIPTION:The Indiana CTSI’s Project Development Teams (PDTs) help researchers turn their ideas into realities.   \nOn May 5\, from 12-1pm\, the Indiana CTSI will host a virtual informational event where researchers can learn about the PDTs directly from other researchers who have benefitted from their guidance and support. \nGetting funding is tough. PDTs strengthen your ideas\, your strategy\, and your path to support. Have questions? Join us on May 5.
URL:https://indianactsi.org/event/powered-by-the-pdts-advancing-your-research-with-the-indiana-ctsis-project-development-teams/
LOCATION:Online
END:VEVENT
BEGIN:VEVENT
DTSTART;TZID=America/Indiana/Indianapolis:20260519T120000
DTEND;TZID=America/Indiana/Indianapolis:20260519T130000
DTSTAMP:20260422T183835
CREATED:20260108T150611Z
LAST-MODIFIED:20260108T150611Z
UID:10000033-1779192000-1779195600@indianactsi.org
SUMMARY:AI Workshop Series | AI in clinical research
DESCRIPTION:This series from the Indiana CTSI aims to educate attendees on leveraging AI basic principles and tools\, its ethics to improve productivity\, facilitate work processes\, and address ethical considerations. The series is open to anyone interested in the topics\, with each session lasting one hour and presented in a hybrid format – in person at the Regenstrief Social Hub (capped at 90 participants)\, or virtual (no limit). \nEach session will also be recorded and made available after the event. \n____________________________________________________________________________________ \nMay 19\, 2026 \nPresenter: Randall W. Grout\, MD \nRegister to attend \nSynopsis coming soon.
URL:https://indianactsi.org/event/ai-workshop-series-ai-in-clinical-research/
LOCATION:Regenstrief Social Hub\, 1101 W 10th Street\, Indianapolis\, IN\, 46202\, United States
CATEGORIES:AI Workshop Series,Networking,Training
END:VEVENT
BEGIN:VEVENT
DTSTART;TZID=America/Indiana/Indianapolis:20260918T080000
DTEND;TZID=America/Indiana/Indianapolis:20260918T160000
DTSTAMP:20260422T183835
CREATED:20260113T150358Z
LAST-MODIFIED:20260319T133206Z
UID:10000034-1789718400-1789747200@indianactsi.org
SUMMARY:2026 Indiana CTSI Annual Meeting
DESCRIPTION:Details to come.
URL:https://indianactsi.org/event/2026-indiana-ctsi-annual-meeting/
LOCATION:Hine Hall\, 875 W North St\, Indianapolis\, IN\, 462502\, United States
END:VEVENT
END:VCALENDAR