BEGIN:VCALENDAR
VERSION:2.0
PRODID:-//Indiana CTSI - ECPv6.15.18//NONSGML v1.0//EN
CALSCALE:GREGORIAN
METHOD:PUBLISH
X-WR-CALNAME:Indiana CTSI
X-ORIGINAL-URL:https://indianactsi.org
X-WR-CALDESC:Events for Indiana CTSI
REFRESH-INTERVAL;VALUE=DURATION:PT1H
X-Robots-Tag:noindex
X-PUBLISHED-TTL:PT1H
BEGIN:VTIMEZONE
TZID:America/Indiana/Indianapolis
BEGIN:DAYLIGHT
TZOFFSETFROM:-0500
TZOFFSETTO:-0400
TZNAME:EDT
DTSTART:20240310T070000
END:DAYLIGHT
BEGIN:STANDARD
TZOFFSETFROM:-0400
TZOFFSETTO:-0500
TZNAME:EST
DTSTART:20241103T060000
END:STANDARD
BEGIN:DAYLIGHT
TZOFFSETFROM:-0500
TZOFFSETTO:-0400
TZNAME:EDT
DTSTART:20250309T070000
END:DAYLIGHT
BEGIN:STANDARD
TZOFFSETFROM:-0400
TZOFFSETTO:-0500
TZNAME:EST
DTSTART:20251102T060000
END:STANDARD
BEGIN:DAYLIGHT
TZOFFSETFROM:-0500
TZOFFSETTO:-0400
TZNAME:EDT
DTSTART:20260308T070000
END:DAYLIGHT
BEGIN:STANDARD
TZOFFSETFROM:-0400
TZOFFSETTO:-0500
TZNAME:EST
DTSTART:20261101T060000
END:STANDARD
END:VTIMEZONE
BEGIN:VEVENT
DTSTART;TZID=America/Indiana/Indianapolis:20250716T120000
DTEND;TZID=America/Indiana/Indianapolis:20250716T130000
DTSTAMP:20260422T075526
CREATED:20250331T192912Z
LAST-MODIFIED:20250331T192912Z
UID:10000006-1752667200-1752670800@indianactsi.org
SUMMARY:Grant-Writing Office Hours | Qualitative research: methods and supportive services
DESCRIPTION:Beginning January 15\, the Indiana CTSI will hold regularly scheduled Grant-Writing Open Office Hours. At each session\, attendees will hear from an expert on a specific topic\, and then there will be time for conversation and questions. \nThe first office hours session will be held on January 15 at 7:00 a.m. Starting in February\, they will take place the first Wednesday of each month from 7:00 a.m. – 8:00 a.m\, and the third Wednesday of the month from 12:00 p.m. – 1:00 p.m. Sessions will take place on Zoom. \nThese sessions are open to anyone affiliated with Indiana CTSI partner institutions. \nTo view the complete schedule for 2025\, check the registration form. \nQuestions? Contact Dr. Tammy Sajdyk.
URL:https://indianactsi.org/event/grant-writing-office-hours-qualitative-research-methods-and-supportive-services/
LOCATION:IN
CATEGORIES:Funding
ORGANIZER;CN="Dr. Tammy Sajdyk":MAILTO:tsajdyk@iu.edu
END:VEVENT
BEGIN:VEVENT
DTSTART;TZID=America/Indiana/Indianapolis:20250618T120000
DTEND;TZID=America/Indiana/Indianapolis:20250618T130000
DTSTAMP:20260422T075526
CREATED:20250331T194153Z
LAST-MODIFIED:20250331T194213Z
UID:10000007-1750248000-1750251600@indianactsi.org
SUMMARY:Grant-Writing Office Hours | Designing clinical trials/finding recruitment resources
DESCRIPTION:Beginning January 15\, the Indiana CTSI will hold regularly scheduled Grant-Writing Open Office Hours. At each session\, attendees will hear from an expert on a specific topic\, and then there will be time for conversation and questions. \nThe first office hours session will be held on January 15 at 7:00 a.m. Starting in February\, they will take place the first Wednesday of each month from 7:00 a.m. – 8:00 a.m\, and the third Wednesday of the month from 12:00 p.m. – 1:00 p.m. Sessions will take place on Zoom. \nThese sessions are open to anyone affiliated with Indiana CTSI partner institutions. \nTo view the complete schedule for 2025\, check the registration form. \nQuestions? Contact Dr. Tammy Sajdyk.
URL:https://indianactsi.org/event/grant-writing-office-hours-designing-clinical-trials-finding-recruitment-resources/
LOCATION:Online
CATEGORIES:Funding
ORGANIZER;CN="Dr. Tammy Sajdyk":MAILTO:tsajdyk@iu.edu
END:VEVENT
BEGIN:VEVENT
DTSTART;TZID=America/Indiana/Indianapolis:20250604T070000
DTEND;TZID=America/Indiana/Indianapolis:20250604T080000
DTSTAMP:20260422T075526
CREATED:20250331T194451Z
LAST-MODIFIED:20250527T133633Z
UID:10000008-1749020400-1749024000@indianactsi.org
SUMMARY:Grant-Writing Office Hours | Budgets
DESCRIPTION:Beginning January 15\, the Indiana CTSI will hold regularly scheduled Grant-Writing Open Office Hours. At each session\, attendees will hear from an expert on a specific topic\, and then there will be time for conversation and questions. \nThe first office hours session will be held on January 15 at 7:00 a.m. Starting in February\, they will take place the first Wednesday of each month from 7:00 a.m. – 8:00 a.m.\, and the third Wednesday of the month from 12:00 p.m. – 1:00 p.m. Sessions will take place on Zoom. \nThese sessions are open to anyone affiliated with Indiana CTSI partner institutions. \nTo view the complete schedule for 2025\, check the registration form. \nQuestions? Contact Dr. Tammy Sajdyk. \n 
URL:https://indianactsi.org/event/grant-writing-office-hours-budgets/
LOCATION:Online
CATEGORIES:Funding
ORGANIZER;CN="Dr. Tammy Sajdyk":MAILTO:tsajdyk@iu.edu
END:VEVENT
BEGIN:VEVENT
DTSTART;TZID=America/Indiana/Indianapolis:20250521T120000
DTEND;TZID=America/Indiana/Indianapolis:20250521T130000
DTSTAMP:20260422T075526
CREATED:20250331T200101Z
LAST-MODIFIED:20250331T201212Z
UID:10000010-1747828800-1747832400@indianactsi.org
SUMMARY:Grant-Writing Office Hours | Self promotion - asking & writing letters of support\, biosketch\, and reaching out to a program officer
DESCRIPTION:Beginning January 15\, the Indiana CTSI will hold regularly scheduled Grant-Writing Open Office Hours. At each session\, attendees will hear from an expert on a specific topic\, and then there will be time for conversation and questions. \nThe first office hours session will be held on January 15 at 7:00 a.m. Starting in February\, they will take place the first Wednesday of each month from 7:00 a.m. – 8:00 a.m\, and the third Wednesday of the month from 12:00 p.m. – 1:00 p.m. Sessions will take place on Zoom. \nThese sessions are open to anyone affiliated with Indiana CTSI partner institutions. \nTo view the complete schedule for 2025\, check the registration form. \nQuestions? Contact Dr. Tammy Sajdyk.
URL:https://indianactsi.org/event/grant-writing-office-hours-self-promotion-asking-writing-letters-of-support-biosketch-and-reaching-out-to-a-program-officer/
LOCATION:Online
CATEGORIES:Funding
ORGANIZER;CN="Dr. Tammy Sajdyk":MAILTO:tsajdyk@iu.edu
END:VEVENT
BEGIN:VEVENT
DTSTART;VALUE=DATE:20250509
DTEND;VALUE=DATE:20250510
DTSTAMP:20260422T075526
CREATED:20250331T201912Z
LAST-MODIFIED:20250508T164827Z
UID:10000011-1746748800-1746835199@indianactsi.org
SUMMARY:2025 Purdue University Indiana CTSI Campus Summit: Machine Learning in Medicine
DESCRIPTION:Join us for an exciting interdisciplinary event exploring the intersection of machine learning and medicine. This collaborative gathering will bring together experts from the Indiana CTSI\, Engineering-Medicine PEI\, and the broader IUSM and Purdue College of Engineering communities to discuss advancements\, challenges\, and future directions in applying AI and machine learning to medical research and healthcare. \nMore details on the agenda and speakers to follow. \nRegistration is now closed.
URL:https://indianactsi.org/event/2025-purdue-university-indiana-ctsi-campus-summit-machine-learning-in-medicine/
LOCATION:Walther Hall\, Room C203\, 980 W Walnut Street\, Indianapolis\, Indiana 46202\, Indianapolis\, IN\, 46202\, United States
CATEGORIES:Campus Retreats
ORGANIZER;CN="Tommy Sors":MAILTO:tsors@purdue.edu
END:VEVENT
BEGIN:VEVENT
DTSTART;TZID=America/Indiana/Indianapolis:20250507T070000
DTEND;TZID=America/Indiana/Indianapolis:20250507T080000
DTSTAMP:20260422T075526
CREATED:20250331T202756Z
LAST-MODIFIED:20250331T202807Z
UID:10000012-1746601200-1746604800@indianactsi.org
SUMMARY:Grant-Writing Office Hours | Career development section: K & T grants
DESCRIPTION:Beginning January 15\, the Indiana CTSI will hold regularly scheduled Grant-Writing Open Office Hours. At each session\, attendees will hear from an expert on a specific topic\, and then there will be time for conversation and questions. \nThe first office hours session will be held on January 15 at 7:00 a.m. Starting in February\, they will take place the first Wednesday of each month from 7:00 a.m. – 8:00 a.m\, and the third Wednesday of the month from 12:00 p.m. – 1:00 p.m. Sessions will take place on Zoom. \nThese sessions are open to anyone affiliated with Indiana CTSI partner institutions. \nTo view the complete schedule for 2025\, check the registration form. \nQuestions? Contact Dr. Tammy Sajdyk.
URL:https://indianactsi.org/event/grant-writing-office-hours-career-development-section-k-t-grants/
LOCATION:Online
CATEGORIES:Funding
ORGANIZER;CN="Dr. Tammy Sajdyk":MAILTO:tsajdyk@iu.edu
END:VEVENT
BEGIN:VEVENT
DTSTART;TZID=America/Indiana/Indianapolis:20250423T083000
DTEND;TZID=America/Indiana/Indianapolis:20250423T160000
DTSTAMP:20260422T075526
CREATED:20250331T203359Z
LAST-MODIFIED:20250331T203527Z
UID:10000013-1745397000-1745424000@indianactsi.org
SUMMARY:2025 IU Bloomington Indiana CTSI Summit: AI and Health Research Summit
DESCRIPTION:Join us for dynamic discussions on AI and ethics\, public health\, and medicine. \nRegistration Now Open \nFeaturing Susan Gregurick\, PhD\, Associate Director of the Office of Data Science Strategy\, NIH. \nAgenda \n8:30 am: Breakfast \n8:50 am: Introduction \nBill Hetrick\, PhD\, Indiana CTSI Deputy Director for IU Bloomington\, and Joel A. Ybe\, PhD\, Indiana CTSI Navigator for IU Bloomington \n9:00-10:00 am: Session I – AI and Ethics \n“Ethics and Responsible Use of AI for Translational Science” \nMatthew DeCamp\, MD\, PhD\, Center for Bioethics and Humanities and Division of General Internal Medicine\, Univ. of Colorado \n“Supporting Equitable Design Processes of Robots and AI”\nAnastasia Ostrowski\, PhD\, Dept. of Computer Graphics Technology\, Purdue University \n“Social Impacts and Ethical Challenges of AI in Healthcare: A Human-Centered Design Perspective”\nElizabeth Kaziunas\, PhD\, Luddy School of Informatics\, Computing\, and Engineering\, IU Bloomington \n10:00-10:15 am: Break \n10:15-11:15 am: Session II – AI\, Public Health\, Community \n“From descriptive insights to predictive modeling: Understanding the role of the Phoenix: a Sober Active Community Mobile app on recovery outcomes among people with substance use disorders (SUD)”\nDanny Valdez\, PhD\, Applied Health Science\, IU School of Public Health – Bloomington \n“Supporting Older Adults’ Social Wellness Needs Through AI-Enabled Systems: Opportunities and Barriers” \nAqueasha Martin-Hammond\, PhD\, Luddy School of Informatics\, Computing\, and Engineering\, IU Indianapolis \nTalk Title TBD\nPatrick Shih\, PhD\, Luddy School of Informatics\, Computing\, and Engineering\, IU Bloomington \n11:15-11:30 am: Break \n11:30-12:30 pm: Session III – AI and Medicine \n“Simulated Minds: What Digital Twins Can Teach Us About Mental Health”\nSamantha Wood\, PhD\, Luddy School of Informatics\, Computing\, and Engineering\, IU Bloomington \n“Using Cognitive-Inspired Data Engineering to Improve Human and Machine Medical Image Decision-making” \nJennifer Trueblood\, PhD\, Psychological and Brian Sciences\, IU Bloomington \n“A Roadmap for Pushing Forward with Intentionality in Healthcare Artificial Intelligence”\nAndrew Gonzalez\, MD\, JD\, MPH\, IU School of Medicine \n12:30-2:00 pm: Lunch\, Lunch Activity and Posters \n2:00-2:15 pm: “Indiana CTSI support of AI and Health”\nSharon Moe\, MD\, and Sarah Wiehe\, MD\, MPH\, Co-Directors of the Indiana CTSI \n2:15-3:15 pm: Session IV – Flash Talks \n“AI-Controlled Digital Humans and Digital Twins”\nAlan Dennis\, PhD\, Kelly School of Business\, IU Bloomington \n“AI-Driven Drug Discovery Pipeline for Lead Optimization”\nYijie Wang\, PhD\, Luddy School of Informatics\, Computing\, and Engineering\, IU Bloomington \n“Interpretable AI models for microbiome-based host phenotype prediction”\nYuzhen Ye\, PhD\, Luddy School of Informatics\, Computing\, and Engineering\, IU Bloomington \n“Nucleus Quantification in Ki67 Images”\nXuhong Zhang\, PhD\, Luddy School of Informatics\, Computing\, and Engineering\, IU Bloomington \n“AI-Enabled Surgical Video Analysis”\nDa Yan\, PhD\, Luddy School of Informatics\, Computing\, and Engineering\, IU Bloomington \n“Integrating Deep Learning into Computational Mass Spectrometry for Precision Health”\nHaixu Tang\, PhD\, Luddy School of Informatics\, Computing\, and Engineering\, IU Bloomington \n3:15-4:00 pm: Keynote Address \nSusan Gregurick\, PhD\, Associate Director for Data Science and Director of the Office of Data Science Strategy\, National Institutes of Health.
URL:https://indianactsi.org/event/2025-iu-bloomington-indiana-ctsi-summit-ai-and-health-research-summit/
LOCATION:Presidents Hall\, located in Franklin Hall\, 601 E Kirkwood Avenue\, Bloomington\, IN\, 47405\, United States
CATEGORIES:Campus Retreats
END:VEVENT
BEGIN:VEVENT
DTSTART;TZID=America/Indiana/Indianapolis:20250416T120000
DTEND;TZID=America/Indiana/Indianapolis:20250416T130000
DTSTAMP:20260422T075526
CREATED:20250331T203734Z
LAST-MODIFIED:20250331T203734Z
UID:10000014-1744804800-1744808400@indianactsi.org
SUMMARY:Grant-Writing Office Hours | Biostatistics
DESCRIPTION:Beginning January 15\, the Indiana CTSI will hold regularly scheduled Grant-Writing Open Office Hours. At each session\, attendees will hear from an expert on a specific topic\, and then there will be time for conversation and questions. \nThe first office hours session will be held on January 15 at 7:00 a.m. Starting in February\, they will take place the first Wednesday of each month from 7:00 a.m. – 8:00 a.m\, and the third Wednesday of the month from 12:00 p.m. – 1:00 p.m. Sessions will take place on Zoom. \nThese sessions are open to anyone affiliated with Indiana CTSI partner institutions. \nTo view the complete schedule for 2025\, check the registration form. \nQuestions? Contact Dr. Tammy Sajdyk.
URL:https://indianactsi.org/event/grant-writing-office-hours-biostatistics/
LOCATION:Online
CATEGORIES:Funding
ORGANIZER;CN="Dr. Tammy Sajdyk":MAILTO:tsajdyk@iu.edu
END:VEVENT
BEGIN:VEVENT
DTSTART;TZID=America/Indiana/Indianapolis:20250402T070000
DTEND;TZID=America/Indiana/Indianapolis:20250402T080000
DTSTAMP:20260422T075526
CREATED:20250331T203946Z
LAST-MODIFIED:20250331T203946Z
UID:10000015-1743577200-1743580800@indianactsi.org
SUMMARY:Grant-Writing Office Hours | Research Plan: Significance\, innovation and approach
DESCRIPTION:Beginning January 15\, the Indiana CTSI will hold regularly scheduled Grant-Writing Open Office Hours. At each session\, attendees will hear from an expert on a specific topic\, and then there will be time for conversation and questions. \nThe first office hours session will be held on January 15 at 7:00 a.m. Starting in February\, they will take place the first Wednesday of each month from 7:00 a.m. – 8:00 a.m\, and the third Wednesday of the month from 12:00 p.m. – 1:00 p.m. Sessions will take place on Zoom. \nThese sessions are open to anyone affiliated with Indiana CTSI partner institutions. \nTo view the complete schedule for 2025\, check the registration form. \nQuestions? Contact Dr. Tammy Sajdyk.
URL:https://indianactsi.org/event/grant-writing-office-hours-research-plan-significance-innovation-and-approach/
LOCATION:Online
CATEGORIES:Funding
ORGANIZER;CN="Dr. Tammy Sajdyk":MAILTO:tsajdyk@iu.edu
END:VEVENT
END:VCALENDAR